BEGIN:VCALENDAR
VERSION:2.0
PRODID:-//Cloozy//NONSGML Cloozy//EN
METHOD:PUBLISH
BEGIN:VEVENT
UID:20260423T095127Z-117894412-www.cloozy.de
URL:https://www.cloozy.de
DTSTAMP:20260423T095127Z
DTSTART:20260516T200000Z
DTEND:20260516T220000Z
SUMMARY:CLOOZY | Dates | 16.05.2026 () Berlin\, MixShow openStage Scheinbar
DESCRIPTION:For tickets and more Cloozy-dates check https://www.cloozy.de
LOCATION:MixShow openStage Scheinbar\, Berlin\, 
END:VEVENT
END:VCALENDAR
